BEGIN:VCALENDAR
VERSION:2.0
PRODID:-//vindsiden - ECPv6.15.20//NONSGML v1.0//EN
CALSCALE:GREGORIAN
METHOD:PUBLISH
X-WR-CALNAME:vindsiden
X-ORIGINAL-URL:https://vindsiden.dk
X-WR-CALDESC:Begivenheder for vindsiden
REFRESH-INTERVAL;VALUE=DURATION:PT1H
X-Robots-Tag:noindex
X-PUBLISHED-TTL:PT1H
BEGIN:VTIMEZONE
TZID:UTC
BEGIN:STANDARD
TZOFFSETFROM:+0000
TZOFFSETTO:+0000
TZNAME:UTC
DTSTART:20230101T000000
END:STANDARD
END:VTIMEZONE
BEGIN:VEVENT
DTSTART;TZID=UTC:20240825T130000
DTEND;TZID=UTC:20240825T150000
DTSTAMP:20260422T061450
CREATED:20240821T154530Z
LAST-MODIFIED:20240821T155813Z
UID:44-1724590800-1724598000@vindsiden.dk
SUMMARY:Lokaldysten
DESCRIPTION:Så er det til til at kridte skoene og stramme cykelkæden. \nLokaldysten\, som vi de seneste 2 år har vundet i Vind\, blev ved Landsbyfesten udsat på grund af lyn og torden. \nSøndag d. 25. august fra kl. 13.00 til kl. 15.00 skal vi forsøge at genvinde pokalen. \nSe mere her og så ses vi ved LCV… ikke?
URL:https://vindsiden.dk/event/lokaldysten/
LOCATION:Vind Kirke og LandsbyCenter Vind
END:VEVENT
END:VCALENDAR