BEGIN:VCALENDAR
VERSION:2.0
PRODID:-//vindsiden - ECPv6.15.20//NONSGML v1.0//EN
CALSCALE:GREGORIAN
METHOD:PUBLISH
X-ORIGINAL-URL:https://vindsiden.dk
X-WR-CALDESC:Begivenheder for vindsiden
REFRESH-INTERVAL;VALUE=DURATION:PT1H
X-Robots-Tag:noindex
X-PUBLISHED-TTL:PT1H
BEGIN:VTIMEZONE
TZID:UTC
BEGIN:STANDARD
TZOFFSETFROM:+0000
TZOFFSETTO:+0000
TZNAME:UTC
DTSTART:20240101T000000
END:STANDARD
END:VTIMEZONE
BEGIN:VEVENT
DTSTART;TZID=UTC:20251107T150000
DTEND;TZID=UTC:20251107T200000
DTSTAMP:20260421T102551
CREATED:20251007T113429Z
LAST-MODIFIED:20251007T115449Z
UID:1127-1762527600-1762545600@vindsiden.dk
SUMMARY:Børneteaterfestival og fællesspisning
DESCRIPTION:Børneteaterfestival i Landsbycenter Vind. Børneteaterfestivalen arrangeres i samarbejde med Kulturelt Samråd i Herning. \nDet foregår fredag den 7. november. \n\n1. forestilling er kl. 15.00\n2. forestilling er kl. 16.30\n\nFDF laver aktiviteter mellem forestillingerne kl. 15.30 til 16.30\, hvor der også er kaffe\, saft og kage. \nDer er fællesspisning for alle omkring kl. 18. \nDer er ingen tilmelding til hverken forestillinger eller fællesspisning så bare kom 😃 \nhttps://kultureltsamraadherning.dk/herning-boerneteaterfestival/ \n  \n\n 
URL:https://vindsiden.dk/event/boerneteaterfestival-og-faellesspisning-2/
LOCATION:Vind Kirke og LandsbyCenter Vind
END:VEVENT
END:VCALENDAR