BEGIN:VCALENDAR
VERSION:2.0
PRODID:-//vindsiden - ECPv6.15.20//NONSGML v1.0//EN
CALSCALE:GREGORIAN
METHOD:PUBLISH
X-ORIGINAL-URL:https://vindsiden.dk
X-WR-CALDESC:Begivenheder for vindsiden
REFRESH-INTERVAL;VALUE=DURATION:PT1H
X-Robots-Tag:noindex
X-PUBLISHED-TTL:PT1H
BEGIN:VTIMEZONE
TZID:UTC
BEGIN:STANDARD
TZOFFSETFROM:+0000
TZOFFSETTO:+0000
TZNAME:UTC
DTSTART:20230101T000000
END:STANDARD
END:VTIMEZONE
BEGIN:VEVENT
DTSTART;TZID=UTC:20240901T100000
DTEND;TZID=UTC:20240901T130000
DTSTAMP:20260422T020100
CREATED:20240821T155413Z
LAST-MODIFIED:20240821T155413Z
UID:51-1725184800-1725195600@vindsiden.dk
SUMMARY:Svampetur
DESCRIPTION:Denne søndag mødes vi kl. 10.00 til en lille svampetur i Ølgryde Plantage.\nUanset om du har prøvet at finde svampe før eller ej\, er du velkommen til at møde op til denne lille skovtur. Der afsluttes med smagsprøver.\nMødested: Parkeringspladsen ved lejrpladsen i Ølgryde Plantage.
URL:https://vindsiden.dk/event/svampetur/
END:VEVENT
END:VCALENDAR